BEGIN:VCALENDAR
VERSION:2.0
PRODID:-//Kookaburra Village - ECPv4.9.13//NONSGML v1.0//EN
CALSCALE:GREGORIAN
METHOD:PUBLISH
X-WR-CALNAME:Kookaburra Village
X-ORIGINAL-URL:https://kookaburravillage.com.au
X-WR-CALDESC:Events for Kookaburra Village
BEGIN:VTIMEZONE
TZID:UTC
BEGIN:STANDARD
TZOFFSETFROM:+0000
TZOFFSETTO:+0000
TZNAME:UTC
DTSTART:20190101T000000
END:STANDARD
END:VTIMEZONE
BEGIN:VEVENT
DTSTART;TZID=UTC:20191214T110000
DTEND;TZID=UTC:20191214T170000
DTSTAMP:20200228T155228
CREATED:20190924T023448Z
LAST-MODIFIED:20190924T023448Z
UID:1492-1576321200-1576342800@kookaburravillage.com.au
SUMMARY:Christmas Party Lunch
DESCRIPTION:2 course meal catered by Meals on Wheels \nEntertainment by Bruce and Maggie Tate \nFurther details closer to the day \n
URL:https://kookaburravillage.com.au/event/christmas-party-lunch/
CATEGORIES:Social Club Party
END:VEVENT
END:VCALENDAR