BEGIN:VCALENDAR
VERSION:2.0
PRODID:-//Kookaburra Village - ECPv4.9.13//NONSGML v1.0//EN
CALSCALE:GREGORIAN
METHOD:PUBLISH
X-WR-CALNAME:Kookaburra Village
X-ORIGINAL-URL:https://kookaburravillage.com.au
X-WR-CALDESC:Events for Kookaburra Village
BEGIN:VTIMEZONE
TZID:UTC
BEGIN:STANDARD
TZOFFSETFROM:+0000
TZOFFSETTO:+0000
TZNAME:UTC
DTSTART:20190101T000000
END:STANDARD
END:VTIMEZONE
BEGIN:VEVENT
DTSTART;TZID=UTC:20191105T110000
DTEND;TZID=UTC:20191105T153000
DTSTAMP:20200228T154132
CREATED:20190924T023056Z
LAST-MODIFIED:20190924T023056Z
UID:1488-1572951600-1572967800@kookaburravillage.com.au
SUMMARY:Melbourne Cup Luncheon
DESCRIPTION:Details closer to the date \n
URL:https://kookaburravillage.com.au/event/melbourne-cup-luncheon/
CATEGORIES:Social Club Party
END:VEVENT
END:VCALENDAR