BEGIN:VCALENDAR
VERSION:2.0
PRODID:-//Kookaburra Village - ECPv4.9.13//NONSGML v1.0//EN
CALSCALE:GREGORIAN
METHOD:PUBLISH
X-WR-CALNAME:Kookaburra Village
X-ORIGINAL-URL:https://kookaburravillage.com.au
X-WR-CALDESC:Events for Kookaburra Village
BEGIN:VTIMEZONE
TZID:UTC
BEGIN:STANDARD
TZOFFSETFROM:+0000
TZOFFSETTO:+0000
TZNAME:UTC
DTSTART:20190101T000000
END:STANDARD
END:VTIMEZONE
BEGIN:VEVENT
DTSTART;TZID=UTC:20191018T160000
DTEND;TZID=UTC:20191018T200000
DTSTAMP:20200228T154603
CREATED:20190924T022647Z
LAST-MODIFIED:20190924T022647Z
UID:1484-1571414400-1571428800@kookaburravillage.com.au
SUMMARY:Fish and Chip Night
DESCRIPTION:Join us for fresh local Fish and Chips in the Pavilion \ncost to be advised \nBar open from 4pm \n
URL:https://kookaburravillage.com.au/event/fish-and-chip-night/
CATEGORIES:Social Club Party
END:VEVENT
END:VCALENDAR