BEGIN:VCALENDAR
VERSION:2.0
PRODID:-//Kookaburra Village - ECPv4.9.13//NONSGML v1.0//EN
CALSCALE:GREGORIAN
METHOD:PUBLISH
X-WR-CALNAME:Kookaburra Village
X-ORIGINAL-URL:https://kookaburravillage.com.au
X-WR-CALDESC:Events for Kookaburra Village
BEGIN:VTIMEZONE
TZID:UTC
BEGIN:STANDARD
TZOFFSETFROM:+0000
TZOFFSETTO:+0000
TZNAME:UTC
DTSTART:20190101T000000
END:STANDARD
END:VTIMEZONE
BEGIN:VEVENT
DTSTART;TZID=UTC:20191005T173000
DTEND;TZID=UTC:20191005T173000
DTSTAMP:20200228T154547
CREATED:20190924T022259Z
LAST-MODIFIED:20190924T022259Z
UID:1482-1570296600-1570296600@kookaburravillage.com.au
SUMMARY:Billy Guy performs Neil Diamond Tribute Show
DESCRIPTION:Dance the night away to all the hits of Neil Diamond performed by Billy Guy. \nBYO nibbles \nBar open from 5.30pm \n  \n
URL:https://kookaburravillage.com.au/event/billy-guy-performs-neil-diamond-tribute-show/
CATEGORIES:Social Club Party
END:VEVENT
END:VCALENDAR